BEGIN:VCALENDAR
VERSION:2.0
PRODID:-//Kansas Academy of Family Physicians - ECPv6.6.4.2//NONSGML v1.0//EN
CALSCALE:GREGORIAN
METHOD:PUBLISH
X-WR-CALNAME:Kansas Academy of Family Physicians
X-ORIGINAL-URL:https://kafponline.org
X-WR-CALDESC:Events for Kansas Academy of Family Physicians
REFRESH-INTERVAL;VALUE=DURATION:PT1H
X-Robots-Tag:noindex
X-PUBLISHED-TTL:PT1H
BEGIN:VTIMEZONE
TZID:UTC
BEGIN:STANDARD
TZOFFSETFROM:+0000
TZOFFSETTO:+0000
TZNAME:UTC
DTSTART:20190101T000000
END:STANDARD
END:VTIMEZONE
BEGIN:VEVENT
DTSTART;VALUE=DATE:20190925
DTEND;VALUE=DATE:20190929
DTSTAMP:20260424T113200
CREATED:20190726T000229Z
LAST-MODIFIED:20190726T000229Z
UID:12297-1569369600-1569715199@kafponline.org
SUMMARY:AAFP FMX
DESCRIPTION:
URL:https://kafponline.org/events/aafp-fmx/
LOCATION:Philadelphia Marriott Downtown Hotel\, 1201 Market Street\, Philadelphia\, PA\, 19103
END:VEVENT
END:VCALENDAR