BEGIN:VCALENDAR
VERSION:2.0
PRODID:-//Kansas Academy of Family Physicians - ECPv6.6.4.2//NONSGML v1.0//EN
CALSCALE:GREGORIAN
METHOD:PUBLISH
X-WR-CALNAME:Kansas Academy of Family Physicians
X-ORIGINAL-URL:https://kafponline.org
X-WR-CALDESC:Events for Kansas Academy of Family Physicians
REFRESH-INTERVAL;VALUE=DURATION:PT1H
X-Robots-Tag:noindex
X-PUBLISHED-TTL:PT1H
BEGIN:VTIMEZONE
TZID:UTC
BEGIN:STANDARD
TZOFFSETFROM:+0000
TZOFFSETTO:+0000
TZNAME:UTC
DTSTART:20190101T000000
END:STANDARD
END:VTIMEZONE
BEGIN:VEVENT
DTSTART;VALUE=DATE:20191012
DTEND;VALUE=DATE:20191015
DTSTAMP:20260424T094558
CREATED:20190726T002124Z
LAST-MODIFIED:20190726T002124Z
UID:12314-1570838400-1571097599@kafponline.org
SUMMARY:AAFP Congress of Delegates
DESCRIPTION:
URL:https://kafponline.org/events/aafp-congress-of-delegates-2/
LOCATION:Hyatt Regency\, Chicago\, IL\, United States
END:VEVENT
END:VCALENDAR