BEGIN:VCALENDAR
VERSION:2.0
PRODID:-//Kansas Academy of Family Physicians - ECPv6.6.4.2//NONSGML v1.0//EN
CALSCALE:GREGORIAN
METHOD:PUBLISH
X-ORIGINAL-URL:https://kafponline.org
X-WR-CALDESC:Events for Kansas Academy of Family Physicians
REFRESH-INTERVAL;VALUE=DURATION:PT1H
X-Robots-Tag:noindex
X-PUBLISHED-TTL:PT1H
BEGIN:VTIMEZONE
TZID:UTC
BEGIN:STANDARD
TZOFFSETFROM:+0000
TZOFFSETTO:+0000
TZNAME:UTC
DTSTART:20200101T000000
END:STANDARD
END:VTIMEZONE
BEGIN:VEVENT
DTSTART;VALUE=DATE:20200605
DTEND;VALUE=DATE:20200608
DTSTAMP:20260423T163643
CREATED:20190726T003116Z
LAST-MODIFIED:20190726T003116Z
UID:12329-1591315200-1591574399@kafponline.org
SUMMARY:AAFP Commission Meetings - Summer
DESCRIPTION:
URL:https://kafponline.org/events/aafp-commission-meetings-summer/
LOCATION:Kansas City\, MO
END:VEVENT
END:VCALENDAR