BEGIN:VCALENDAR
VERSION:2.0
PRODID:-//Kansas Academy of Family Physicians - ECPv6.6.4.2//NONSGML v1.0//EN
CALSCALE:GREGORIAN
METHOD:PUBLISH
X-ORIGINAL-URL:https://kafponline.org
X-WR-CALDESC:Events for Kansas Academy of Family Physicians
REFRESH-INTERVAL;VALUE=DURATION:PT1H
X-Robots-Tag:noindex
X-PUBLISHED-TTL:PT1H
BEGIN:VTIMEZONE
TZID:America/Chicago
BEGIN:DAYLIGHT
TZOFFSETFROM:-0600
TZOFFSETTO:-0500
TZNAME:CDT
DTSTART:20200308T080000
END:DAYLIGHT
BEGIN:STANDARD
TZOFFSETFROM:-0500
TZOFFSETTO:-0600
TZNAME:CST
DTSTART:20201101T070000
END:STANDARD
END:VTIMEZONE
BEGIN:VEVENT
DTSTART;TZID=America/Chicago:20201110T180000
DTEND;TZID=America/Chicago:20201110T200000
DTSTAMP:20260423T041133
CREATED:20201027T230923Z
LAST-MODIFIED:20201027T233814Z
UID:16205-1605031200-1605038400@kafponline.org
SUMMARY:Virtual CME - Nov. 10
DESCRIPTION:Tuesday\, November 10 | 6:00 – 8:00 p.m.\n\n\n\n\n\n\nVaping Epidemic\nMatthias Salathe\, MD \nLearning Objectives: \n\nUnderstand what vaping means regarding diluents\, nicotine and flavors plus possibly other substances\nUnderstand how different components of the vaping fluid could influence health\nUnderstand the difference between acute lung injury and chronic exposures in people who vape\n\nIntimate Partner Violence\nNancy Carroll\, LSCSW \nLearning Objectives: \n\nWhich SDOH impact the possibility of Intimate Partner Violence\nThe role of Primary Care and Intimate Partner Violence\nHow to use a trauma-informed approach to providing care for a victim of intimate partner violence\n\n\n\n\nQuestions? Contact info@kafponline.org
URL:https://kafponline.org/events/virtual-cme-nov-10/
END:VEVENT
END:VCALENDAR