BEGIN:VCALENDAR
VERSION:2.0
PRODID:-//Kansas Academy of Family Physicians - ECPv6.6.4.2//NONSGML v1.0//EN
CALSCALE:GREGORIAN
METHOD:PUBLISH
X-WR-CALNAME:Kansas Academy of Family Physicians
X-ORIGINAL-URL:https://kafponline.org
X-WR-CALDESC:Events for Kansas Academy of Family Physicians
REFRESH-INTERVAL;VALUE=DURATION:PT1H
X-Robots-Tag:noindex
X-PUBLISHED-TTL:PT1H
BEGIN:VTIMEZONE
TZID:America/Chicago
BEGIN:DAYLIGHT
TZOFFSETFROM:-0600
TZOFFSETTO:-0500
TZNAME:CDT
DTSTART:20210314T080000
END:DAYLIGHT
BEGIN:STANDARD
TZOFFSETFROM:-0500
TZOFFSETTO:-0600
TZNAME:CST
DTSTART:20211107T070000
END:STANDARD
END:VTIMEZONE
BEGIN:VEVENT
DTSTART;TZID=America/Chicago:20210128T121500
DTEND;TZID=America/Chicago:20210128T131500
DTSTAMP:20260422T223657
CREATED:20210122T213404Z
LAST-MODIFIED:20210122T213404Z
UID:16529-1611836100-1611839700@kafponline.org
SUMMARY:Webinar: COVID-19 Vaccine Misinformation & Patient Confidence
DESCRIPTION:Join us for a members only webinar as KAFP hosts a Q&A with Julie Wood\, MD\, MPH\, FAAFP\, Senior Vice President of research\, science and health of the public at AAFP\, KAFP President Chad Johanning\, MD\, FAAFP and KAFP President-Elect Jen Bacani McKenney\, MD\, FAAFP. This moderated Q&A will discuss: \n• Misinformation regarding COVID-19 vaccinations\n• Tools to build patient confidence in the efficacy of the COVID-19 vaccines\n• How the Kansas vaccine roll out plan impacts your practice \n\nRegistration closes at 11:00 a.m. CT on Thursday\, Jan. 28. Once you register\, a link to access the webinar will be emailed to you at least 24 hours in advance. You can submit questions in advance for this panel by emailing us at info@kafponline.org.
URL:https://kafponline.org/events/webinar-covid-19-vaccine-misinformation-patient-confidence/
END:VEVENT
BEGIN:VEVENT
DTSTART;VALUE=DATE:20210610
DTEND;VALUE=DATE:20210613
DTSTAMP:20260422T223657
CREATED:20210122T213723Z
LAST-MODIFIED:20210122T213723Z
UID:16537-1623283200-1623542399@kafponline.org
SUMMARY:Fam Med Forward 2021
DESCRIPTION:Plan to join KAFP virtually for Fam Med Forward 2021!\nStay tuned for details to come.
URL:https://kafponline.org/events/fam-med-forward-2021/
END:VEVENT
END:VCALENDAR