BEGIN:VCALENDAR
VERSION:2.0
PRODID:-//Kansas Academy of Family Physicians - ECPv6.6.4.2//NONSGML v1.0//EN
CALSCALE:GREGORIAN
METHOD:PUBLISH
X-WR-CALNAME:Kansas Academy of Family Physicians
X-ORIGINAL-URL:https://kafponline.org
X-WR-CALDESC:Events for Kansas Academy of Family Physicians
REFRESH-INTERVAL;VALUE=DURATION:PT1H
X-Robots-Tag:noindex
X-PUBLISHED-TTL:PT1H
BEGIN:VTIMEZONE
TZID:UTC
BEGIN:STANDARD
TZOFFSETFROM:+0000
TZOFFSETTO:+0000
TZNAME:UTC
DTSTART:20180101T000000
END:STANDARD
TZID:America/Chicago
BEGIN:DAYLIGHT
TZOFFSETFROM:-0600
TZOFFSETTO:-0500
TZNAME:CDT
DTSTART:20190310T080000
END:DAYLIGHT
BEGIN:STANDARD
TZOFFSETFROM:-0500
TZOFFSETTO:-0600
TZNAME:CST
DTSTART:20191103T070000
END:STANDARD
END:VTIMEZONE
BEGIN:VEVENT
DTSTART;TZID=UTC:20200501T121500
DTEND;TZID=UTC:20200501T131500
DTSTAMP:20260423T055423
CREATED:20200428T000858Z
LAST-MODIFIED:20200428T043431Z
UID:14785-1588335300-1588338900@kafponline.org
SUMMARY:COVID-19 Approach for Treatments Webinar
DESCRIPTION:KAFP Hosts Webinar: COVID-19 Approach for Treatments\nFriday\, May 1 | 12:15 – 1:15 p.m.\nPresented by Daniel Dickerson\, MD\, FAAFP \n\nJoin fellow KAFP member Daniel Dickerson\, MD\, PhD\, FAAFP (Eudora) as he discusses approaches for treatment of COVID-19 during this one hour\, members-only webinar. Dr. Dickerson is the Medical Director for phase one first in human clinical research trials at PRA Health Sciences in Lenexa\, Kan. On the webinar we will: \n\nLearn about the targeted approach of handling treatment of COVID-19 with FDA approved medications for other uses;\nDiscuss passive immunity\, antivirals and vaccines;\nHear more about the status of treatment research for COVID-19 and explanation of why it takes so long to develop;\nRoundtable discussion with Dr. Dickerson and clinicians Dr. Chad Johanning (Lawrence) and Dr. Jennifer Bacani McKenney (Fredonia)\nModerated Q & A\n\nThis lunch hour webinar is open to all members but has limited registration availability. Register today to secure your seat in this webinar. \nParticipation limit 100. Webinar will be recorded.
URL:https://kafponline.org/events/covid-19-approach-for-treatments-webinar/
END:VEVENT
BEGIN:VEVENT
DTSTART;TZID=UTC:20200411T103000
DTEND;TZID=UTC:20200411T120000
DTSTAMP:20260423T055423
CREATED:20190726T001145Z
LAST-MODIFIED:20190726T001145Z
UID:12307-1586601000-1586606400@kafponline.org
SUMMARY:Spring Board Meeting\, Virtual
DESCRIPTION:
URL:https://kafponline.org/events/spring-board-meeting-virtual/
END:VEVENT
BEGIN:VEVENT
DTSTART;VALUE=DATE:20200222
DTEND;VALUE=DATE:20200224
DTSTAMP:20260423T055423
CREATED:20190726T003655Z
LAST-MODIFIED:20190726T003655Z
UID:12338-1582329600-1582502399@kafponline.org
SUMMARY:Multi State Forum
DESCRIPTION:Hosted by Illinois AFP
URL:https://kafponline.org/events/multi-state-forum/
LOCATION:DFW Hyatt Regency
END:VEVENT
BEGIN:VEVENT
DTSTART;VALUE=DATE:20200207
DTEND;VALUE=DATE:20200210
DTSTAMP:20260423T055423
CREATED:20190726T002920Z
LAST-MODIFIED:20190726T002920Z
UID:12325-1581033600-1581292799@kafponline.org
SUMMARY:AAFP Commission Meetings
DESCRIPTION:
URL:https://kafponline.org/events/aafp-commission-meetings-2/
LOCATION:Kansas City\, MO
END:VEVENT
BEGIN:VEVENT
DTSTART;TZID=UTC:20200129T093000
DTEND;TZID=UTC:20200129T170000
DTSTAMP:20260423T055423
CREATED:20190726T000851Z
LAST-MODIFIED:20191209T214438Z
UID:12303-1580290200-1580317200@kafponline.org
SUMMARY:Advocacy Day
DESCRIPTION:
URL:https://kafponline.org/events/advocacy-day/
LOCATION:KMS/KAMMCO Building\, 623 SW 10th Ave\, Topeka\, KS\, 66612\, United States
END:VEVENT
BEGIN:VEVENT
DTSTART;TZID=UTC:20200129T073000
DTEND;TZID=UTC:20200129T100000
DTSTAMP:20260423T055423
CREATED:20190726T000406Z
LAST-MODIFIED:20191209T231024Z
UID:12300-1580283000-1580292000@kafponline.org
SUMMARY:Winter Board Meeting
DESCRIPTION:Breakfast 7:30 a.m. \nMeeting 8:00 – 10:00 a.m.
URL:https://kafponline.org/events/winter-board-meeting/
LOCATION:KMS/KAMMCO Building\, 623 SW 10th Ave\, Topeka\, KS\, 66612\, United States
END:VEVENT
BEGIN:VEVENT
DTSTART;TZID=UTC:20191019T083000
DTEND;TZID=UTC:20191019T110000
DTSTAMP:20260423T055423
CREATED:20190705T205931Z
LAST-MODIFIED:20190705T205931Z
UID:12202-1571473800-1571482800@kafponline.org
SUMMARY:Let's Move\, Kansas
DESCRIPTION:
URL:https://kafponline.org/events/lets-move-kansas-2/
LOCATION:Sedgwick County Park\, 6501 W 21st St N\, Wichita\, KS\, 67205\, United States
END:VEVENT
BEGIN:VEVENT
DTSTART;VALUE=DATE:20191012
DTEND;VALUE=DATE:20191015
DTSTAMP:20260423T055423
CREATED:20190726T002124Z
LAST-MODIFIED:20190726T002124Z
UID:12314-1570838400-1571097599@kafponline.org
SUMMARY:AAFP Congress of Delegates
DESCRIPTION:
URL:https://kafponline.org/events/aafp-congress-of-delegates-2/
LOCATION:Hyatt Regency\, Chicago\, IL\, United States
END:VEVENT
BEGIN:VEVENT
DTSTART;VALUE=DATE:20190925
DTEND;VALUE=DATE:20190929
DTSTAMP:20260423T055423
CREATED:20190726T000229Z
LAST-MODIFIED:20190726T000229Z
UID:12297-1569369600-1569715199@kafponline.org
SUMMARY:AAFP FMX
DESCRIPTION:
URL:https://kafponline.org/events/aafp-fmx/
LOCATION:Philadelphia Marriott Downtown Hotel\, 1201 Market Street\, Philadelphia\, PA\, 19103
END:VEVENT
BEGIN:VEVENT
DTSTART;VALUE=DATE:20190922
DTEND;VALUE=DATE:20190926
DTSTAMP:20260423T055423
CREATED:20190725T235927Z
LAST-MODIFIED:20190725T235927Z
UID:12293-1569110400-1569455999@kafponline.org
SUMMARY:AAFP Congress of Delegates
DESCRIPTION:
URL:https://kafponline.org/events/aafp-congress-of-delegates/
LOCATION:Philadelphia Marriott Downtown Hotel\, 1201 Market Street\, Philadelphia\, PA\, 19103
END:VEVENT
BEGIN:VEVENT
DTSTART;TZID=UTC:20190914T103000
DTEND;TZID=UTC:20190914T120000
DTSTAMP:20260423T055423
CREATED:20190725T235344Z
LAST-MODIFIED:20190725T235344Z
UID:12290-1568457000-1568462400@kafponline.org
SUMMARY:Fall Board Meeting\, Virtual
DESCRIPTION:
URL:https://kafponline.org/events/fall-board-meeting-virtual/
END:VEVENT
BEGIN:VEVENT
DTSTART;TZID=UTC:20190828T160000
DTEND;TZID=UTC:20190828T180000
DTSTAMP:20260423T055423
CREATED:20190725T233901Z
LAST-MODIFIED:20190725T234237Z
UID:12283-1567008000-1567015200@kafponline.org
SUMMARY:Carolyn's Retirement Party
DESCRIPTION:Join Carolyn\, her friends\, family and colleagues from KAFP\, to celebrate her retirement after 30 years of service as KAFP’s Executive Vice President. \nAlso\, meet KAFP’s new EVP\, Tarah Remington Brown. Remarks will be given at 5:15 p.m. \nPlease RSVP to INFO@kafponline.org or call (316) 721-9005 by Aug. 20\, 2019 \nCards may be sent to Carolyn\, c/o KAFP\, 7570 W 21st St N\, Bldg 1026C #104\, Wichita\, KS 67205.
URL:https://kafponline.org/events/carolyns-retirement-party/
LOCATION:KU School of Medicine-Wichita\, 1010 N Kansas St\, Wichita\, KS\, 67206\, United States
END:VEVENT
BEGIN:VEVENT
DTSTART;TZID=America/Chicago:20190724T121500
DTEND;TZID=America/Chicago:20190724T124500
DTSTAMP:20260423T055423
CREATED:20190703T221217Z
LAST-MODIFIED:20190703T221229Z
UID:12191-1563970500-1563972300@kafponline.org
SUMMARY:RISE Webinar
DESCRIPTION:Nurturing A Heart of Service Without Burning Out\nPresenter: Amaryllis Sanchez Wohlever\, MD
URL:https://kafponline.org/events/rise-webinar/
END:VEVENT
BEGIN:VEVENT
DTSTART;VALUE=DATE:20190704
DTEND;VALUE=DATE:20190705
DTSTAMP:20260423T055423
CREATED:20190703T220642Z
LAST-MODIFIED:20190703T220642Z
UID:12187-1562198400-1562284799@kafponline.org
SUMMARY:4th of July Holiday
DESCRIPTION:KAFP office closed. Enjoy your time with family and friends!
URL:https://kafponline.org/events/4th-of-july-holiday/
END:VEVENT
BEGIN:VEVENT
DTSTART;TZID=UTC:20190606T080000
DTEND;TZID=UTC:20190608T170000
DTSTAMP:20260423T055423
CREATED:20180626T203935Z
LAST-MODIFIED:20180626T203935Z
UID:7239-1559808000-1560013200@kafponline.org
SUMMARY:KAFP Annual Meeting; Summer Board Meeting; Wichita Marriott Hotel
DESCRIPTION:
URL:https://kafponline.org/events/kafp-annual-meeting-summer-board-meeting-wichita-marriott-hotel/
END:VEVENT
BEGIN:VEVENT
DTSTART;TZID=UTC:20190520T080000
DTEND;TZID=UTC:20190521T170000
DTSTAMP:20260423T055423
CREATED:20180626T203735Z
LAST-MODIFIED:20180901T010905Z
UID:7230-1558339200-1558458000@kafponline.org
SUMMARY:AAFP's Family Medicine Advocacy Summit\, Washington DC
DESCRIPTION:
URL:https://kafponline.org/events/aafps-family-medicine-advocacy-summit-washington-dc/
END:VEVENT
BEGIN:VEVENT
DTSTART;TZID=UTC:20190425T080000
DTEND;TZID=UTC:20190427T170000
DTSTAMP:20260423T055423
CREATED:20180626T203649Z
LAST-MODIFIED:20180626T203649Z
UID:7227-1556179200-1556384400@kafponline.org
SUMMARY:AAFP's Annual Chapter Leadership and National Chapter Constituency Leadership Conf\, KC
DESCRIPTION:
URL:https://kafponline.org/events/aafps-annual-chapter-leadership-and-national-chapter-constituency-leadership-conf-kc/
END:VEVENT
BEGIN:VEVENT
DTSTART;VALUE=DATE:20190419
DTEND;VALUE=DATE:20190420
DTSTAMP:20260423T055423
CREATED:20180626T203533Z
LAST-MODIFIED:20180626T203533Z
UID:7224-1555632000-1555718399@kafponline.org
SUMMARY:Good Friday\, office closed
DESCRIPTION:
URL:https://kafponline.org/events/good-friday-office-closed-2/
END:VEVENT
BEGIN:VEVENT
DTSTART;TZID=UTC:20190406T080000
DTEND;TZID=UTC:20190406T170000
DTSTAMP:20260423T055423
CREATED:20180626T203441Z
LAST-MODIFIED:20180626T203441Z
UID:7221-1554537600-1554570000@kafponline.org
SUMMARY:Spring Board Meeting/ Virtual Meeting
DESCRIPTION:
URL:https://kafponline.org/events/spring-board-meeting-virtual-meeting/
END:VEVENT
BEGIN:VEVENT
DTSTART;TZID=UTC:20190223T080000
DTEND;TZID=UTC:20190224T170000
DTSTAMP:20260423T055423
CREATED:20180626T203337Z
LAST-MODIFIED:20180626T203337Z
UID:7218-1550908800-1551027600@kafponline.org
SUMMARY:Multi-State Forum\, Dallas
DESCRIPTION:
URL:https://kafponline.org/events/multi-state-forum-dallas-2/
END:VEVENT
BEGIN:VEVENT
DTSTART;TZID=UTC:20190130T080000
DTEND;TZID=UTC:20190130T170000
DTSTAMP:20260423T055423
CREATED:20180626T203251Z
LAST-MODIFIED:20180901T005445Z
UID:7215-1548835200-1548867600@kafponline.org
SUMMARY:Winter Board Meeting/ Advocacy Day/ Legislative Reception\, KMS Building\, Topeka
DESCRIPTION:
URL:https://kafponline.org/events/winter-board-meeting-advocacy-day-legislative-reception-kms-building-topeka/
LOCATION:KMS/KAMMCO Building\, 623 SW 10th Ave\, Topeka\, KS\, 66612\, United States
END:VEVENT
BEGIN:VEVENT
DTSTART;TZID=UTC:20190125T080000
DTEND;TZID=UTC:20190127T170000
DTSTAMP:20260423T055423
CREATED:20180626T203146Z
LAST-MODIFIED:20180626T203146Z
UID:7212-1548403200-1548608400@kafponline.org
SUMMARY:AAFP Commission Meeting\, KC
DESCRIPTION:
URL:https://kafponline.org/events/aafp-commission-meeting-kc/
END:VEVENT
BEGIN:VEVENT
DTSTART;VALUE=DATE:20190101
DTEND;VALUE=DATE:20190102
DTSTAMP:20260423T055423
CREATED:20180119T042610Z
LAST-MODIFIED:20180119T042610Z
UID:3498-1546300800-1546387199@kafponline.org
SUMMARY:New Year’s Day\, office closed
DESCRIPTION:
URL:https://kafponline.org/events/new-years-day-office-closed/
CATEGORIES:AAFP,KAFP
END:VEVENT
BEGIN:VEVENT
DTSTART;VALUE=DATE:20181224
DTEND;VALUE=DATE:20181226
DTSTAMP:20260423T055423
CREATED:20180119T042524Z
LAST-MODIFIED:20180119T042524Z
UID:3495-1545609600-1545782399@kafponline.org
SUMMARY:Christmas Holiday\, office closed
DESCRIPTION:
URL:https://kafponline.org/events/christmas-holiday-office-closed/
CATEGORIES:AAFP,KAFP
END:VEVENT
BEGIN:VEVENT
DTSTART;VALUE=DATE:20181122
DTEND;VALUE=DATE:20181124
DTSTAMP:20260423T055423
CREATED:20180119T042431Z
LAST-MODIFIED:20180119T043029Z
UID:3492-1542844800-1543017599@kafponline.org
SUMMARY:Thanksgiving Holiday\, office closed
DESCRIPTION:
URL:https://kafponline.org/events/thanksgiving-holiday-office-closed/
CATEGORIES:AAFP,KAFP
END:VEVENT
BEGIN:VEVENT
DTSTART;TZID=UTC:20181025T080000
DTEND;TZID=UTC:20181027T170000
DTSTAMP:20260423T055423
CREATED:20180119T042332Z
LAST-MODIFIED:20180901T004957Z
UID:3489-1540454400-1540659600@kafponline.org
SUMMARY:AAFP State Legislative Conference\, Ft. Lauderdale\, FL
DESCRIPTION:
URL:https://kafponline.org/events/aafp-state-legislative-conference-ft-lauderdale-fl/
LOCATION:Fort Lauderdale Marriott Pompano Beach Resort and Spa\, 1200 N. Ocean Blvd\, Pompano Beach\, FL\, 33062\, United States
CATEGORIES:AAFP
END:VEVENT
BEGIN:VEVENT
DTSTART;TZID=UTC:20181024T121500
DTEND;TZID=UTC:20181024T124500
DTSTAMP:20260423T055423
CREATED:20180626T023624Z
LAST-MODIFIED:20180626T024116Z
UID:7194-1540383300-1540385100@kafponline.org
SUMMARY:Rise Webinar Series
DESCRIPTION:Two Kansas Case Studies\nPresenter: Melissa Rosso\, MD and Beth Oller\, MD
URL:https://kafponline.org/events/rise-webinar-4-melissa-rosso-md-and-beth-oller-md-two-kansas-case-studies/
END:VEVENT
BEGIN:VEVENT
DTSTART;TZID=UTC:20181020T083000
DTEND;TZID=UTC:20181020T110000
DTSTAMP:20260423T055423
CREATED:20180524T202122Z
LAST-MODIFIED:20180524T202122Z
UID:6597-1540024200-1540033200@kafponline.org
SUMMARY:Let's Move\, Kansas
DESCRIPTION:Join us for the 4th Annual Let’s Move\, Kansas run & walk!
URL:https://kafponline.org/events/lets-move-kansas/
LOCATION:Sedgwick County Park\, 6501 W 21st St N\, Wichita\, KS\, 67205\, United States
END:VEVENT
BEGIN:VEVENT
DTSTART;VALUE=DATE:20181011
DTEND;VALUE=DATE:20181012
DTSTAMP:20260423T055423
CREATED:20180626T023517Z
LAST-MODIFIED:20180830T005508Z
UID:7191-1539216000-1539302399@kafponline.org
SUMMARY:Kansas Career Opportunities Conference\, KC campus
DESCRIPTION:
URL:https://kafponline.org/events/kansas-career-opportunities-conference-kc-campus/
LOCATION:KUMC Hixson Atrium\, 3901 Rainbow Blvd.\, Kansas City\, KS\, United States
END:VEVENT
BEGIN:VEVENT
DTSTART;TZID=UTC:20181010T080000
DTEND;TZID=UTC:20181013T170000
DTSTAMP:20260423T055423
CREATED:20180119T042233Z
LAST-MODIFIED:20180830T005135Z
UID:3486-1539158400-1539450000@kafponline.org
SUMMARY:AAFP FMX\, New Orleans
DESCRIPTION:
URL:https://kafponline.org/events/aafp-fmx-new-orleans/
LOCATION:Ernest N. Morial Convention Center\, 900 Convention Center Blvd\, New Orleans\, LA\, 70130\, United States
CATEGORIES:AAFP
END:VEVENT
END:VCALENDAR