BEGIN:VCALENDAR
VERSION:2.0
PRODID:-//Kansas Academy of Family Physicians - ECPv6.6.4.2//NONSGML v1.0//EN
CALSCALE:GREGORIAN
METHOD:PUBLISH
X-ORIGINAL-URL:https://kafponline.org
X-WR-CALDESC:Events for Kansas Academy of Family Physicians
REFRESH-INTERVAL;VALUE=DURATION:PT1H
X-Robots-Tag:noindex
X-PUBLISHED-TTL:PT1H
BEGIN:VTIMEZONE
TZID:UTC
BEGIN:STANDARD
TZOFFSETFROM:+0000
TZOFFSETTO:+0000
TZNAME:UTC
DTSTART:20180101T000000
END:STANDARD
END:VTIMEZONE
BEGIN:VEVENT
DTSTART;TZID=UTC:20181003T160000
DTEND;TZID=UTC:20181003T190000
DTSTAMP:20260425T175109
CREATED:20180626T023323Z
LAST-MODIFIED:20180830T004321Z
UID:7185-1538582400-1538593200@kafponline.org
SUMMARY:Kansas Career Opportunities Conference\, Wichita Campus
DESCRIPTION:
URL:https://kafponline.org/events/kansas-career-opportunities-conference-wichita-campus/
LOCATION:The Distillery 244\, 244 N. Mosley\, Wichita\, KS\, United States
END:VEVENT
BEGIN:VEVENT
DTSTART;TZID=UTC:20181008T080000
DTEND;TZID=UTC:20181010T170000
DTSTAMP:20260425T175109
CREATED:20180119T042140Z
LAST-MODIFIED:20180830T004755Z
UID:3483-1538985600-1539190800@kafponline.org
SUMMARY:AAFP Congress of Delegates\, New Orleans
DESCRIPTION:
URL:https://kafponline.org/events/aafp-congress-of-delegates-new-orleans/
LOCATION:Hilton New Orleans Riverside Hotel\, 2 Poydras Street\, New Orleans\, LA\, 70130\, United States
CATEGORIES:AAFP
END:VEVENT
BEGIN:VEVENT
DTSTART;TZID=UTC:20181010T080000
DTEND;TZID=UTC:20181013T170000
DTSTAMP:20260425T175109
CREATED:20180119T042233Z
LAST-MODIFIED:20180830T005135Z
UID:3486-1539158400-1539450000@kafponline.org
SUMMARY:AAFP FMX\, New Orleans
DESCRIPTION:
URL:https://kafponline.org/events/aafp-fmx-new-orleans/
LOCATION:Ernest N. Morial Convention Center\, 900 Convention Center Blvd\, New Orleans\, LA\, 70130\, United States
CATEGORIES:AAFP
END:VEVENT
BEGIN:VEVENT
DTSTART;VALUE=DATE:20181011
DTEND;VALUE=DATE:20181012
DTSTAMP:20260425T175109
CREATED:20180626T023517Z
LAST-MODIFIED:20180830T005508Z
UID:7191-1539216000-1539302399@kafponline.org
SUMMARY:Kansas Career Opportunities Conference\, KC campus
DESCRIPTION:
URL:https://kafponline.org/events/kansas-career-opportunities-conference-kc-campus/
LOCATION:KUMC Hixson Atrium\, 3901 Rainbow Blvd.\, Kansas City\, KS\, United States
END:VEVENT
BEGIN:VEVENT
DTSTART;TZID=UTC:20181020T083000
DTEND;TZID=UTC:20181020T110000
DTSTAMP:20260425T175109
CREATED:20180524T202122Z
LAST-MODIFIED:20180524T202122Z
UID:6597-1540024200-1540033200@kafponline.org
SUMMARY:Let's Move\, Kansas
DESCRIPTION:Join us for the 4th Annual Let’s Move\, Kansas run & walk!
URL:https://kafponline.org/events/lets-move-kansas/
LOCATION:Sedgwick County Park\, 6501 W 21st St N\, Wichita\, KS\, 67205\, United States
END:VEVENT
BEGIN:VEVENT
DTSTART;TZID=UTC:20181024T121500
DTEND;TZID=UTC:20181024T124500
DTSTAMP:20260425T175109
CREATED:20180626T023624Z
LAST-MODIFIED:20180626T024116Z
UID:7194-1540383300-1540385100@kafponline.org
SUMMARY:Rise Webinar Series
DESCRIPTION:Two Kansas Case Studies\nPresenter: Melissa Rosso\, MD and Beth Oller\, MD
URL:https://kafponline.org/events/rise-webinar-4-melissa-rosso-md-and-beth-oller-md-two-kansas-case-studies/
END:VEVENT
BEGIN:VEVENT
DTSTART;TZID=UTC:20181025T080000
DTEND;TZID=UTC:20181027T170000
DTSTAMP:20260425T175109
CREATED:20180119T042332Z
LAST-MODIFIED:20180901T004957Z
UID:3489-1540454400-1540659600@kafponline.org
SUMMARY:AAFP State Legislative Conference\, Ft. Lauderdale\, FL
DESCRIPTION:
URL:https://kafponline.org/events/aafp-state-legislative-conference-ft-lauderdale-fl/
LOCATION:Fort Lauderdale Marriott Pompano Beach Resort and Spa\, 1200 N. Ocean Blvd\, Pompano Beach\, FL\, 33062\, United States
CATEGORIES:AAFP
END:VEVENT
END:VCALENDAR