BEGIN:VCALENDAR
VERSION:2.0
PRODID:-//Kansas Academy of Family Physicians - ECPv6.6.4.2//NONSGML v1.0//EN
CALSCALE:GREGORIAN
METHOD:PUBLISH
X-WR-CALNAME:Kansas Academy of Family Physicians
X-ORIGINAL-URL:https://kafponline.org
X-WR-CALDESC:Events for Kansas Academy of Family Physicians
REFRESH-INTERVAL;VALUE=DURATION:PT1H
X-Robots-Tag:noindex
X-PUBLISHED-TTL:PT1H
BEGIN:VTIMEZONE
TZID:UTC
BEGIN:STANDARD
TZOFFSETFROM:+0000
TZOFFSETTO:+0000
TZNAME:UTC
DTSTART:20190101T000000
END:STANDARD
END:VTIMEZONE
BEGIN:VEVENT
DTSTART;TZID=UTC:20190828T160000
DTEND;TZID=UTC:20190828T180000
DTSTAMP:20260424T113132
CREATED:20190725T233901Z
LAST-MODIFIED:20190725T234237Z
UID:12283-1567008000-1567015200@kafponline.org
SUMMARY:Carolyn's Retirement Party
DESCRIPTION:Join Carolyn\, her friends\, family and colleagues from KAFP\, to celebrate her retirement after 30 years of service as KAFP’s Executive Vice President. \nAlso\, meet KAFP’s new EVP\, Tarah Remington Brown. Remarks will be given at 5:15 p.m. \nPlease RSVP to INFO@kafponline.org or call (316) 721-9005 by Aug. 20\, 2019 \nCards may be sent to Carolyn\, c/o KAFP\, 7570 W 21st St N\, Bldg 1026C #104\, Wichita\, KS 67205.
URL:https://kafponline.org/events/carolyns-retirement-party/
LOCATION:KU School of Medicine-Wichita\, 1010 N Kansas St\, Wichita\, KS\, 67206\, United States
END:VEVENT
END:VCALENDAR