BEGIN:VCALENDAR
VERSION:2.0
PRODID:-//Kansas Academy of Family Physicians - ECPv6.6.4.2//NONSGML v1.0//EN
CALSCALE:GREGORIAN
METHOD:PUBLISH
X-WR-CALNAME:Kansas Academy of Family Physicians
X-ORIGINAL-URL:https://kafponline.org
X-WR-CALDESC:Events for Kansas Academy of Family Physicians
REFRESH-INTERVAL;VALUE=DURATION:PT1H
X-Robots-Tag:noindex
X-PUBLISHED-TTL:PT1H
BEGIN:VTIMEZONE
TZID:UTC
BEGIN:STANDARD
TZOFFSETFROM:+0000
TZOFFSETTO:+0000
TZNAME:UTC
DTSTART:20200101T000000
END:STANDARD
END:VTIMEZONE
BEGIN:VEVENT
DTSTART;VALUE=DATE:20201013
DTEND;VALUE=DATE:20201018
DTSTAMP:20260423T040922
CREATED:20190726T002256Z
LAST-MODIFIED:20190726T002256Z
UID:12318-1602547200-1602979199@kafponline.org
SUMMARY:AAFP FMX
DESCRIPTION:
URL:https://kafponline.org/events/aafp-fmx-2/
LOCATION:Hyatt Regency\, Chicago\, IL\, United States
END:VEVENT
END:VCALENDAR