BEGIN:VCALENDAR
VERSION:2.0
PRODID:-//Kansas Academy of Family Physicians - ECPv6.6.4.2//NONSGML v1.0//EN
CALSCALE:GREGORIAN
METHOD:PUBLISH
X-WR-CALNAME:Kansas Academy of Family Physicians
X-ORIGINAL-URL:https://kafponline.org
X-WR-CALDESC:Events for Kansas Academy of Family Physicians
REFRESH-INTERVAL;VALUE=DURATION:PT1H
X-Robots-Tag:noindex
X-PUBLISHED-TTL:PT1H
BEGIN:VTIMEZONE
TZID:America/Chicago
BEGIN:DAYLIGHT
TZOFFSETFROM:-0600
TZOFFSETTO:-0500
TZNAME:CDT
DTSTART:20200308T080000
END:DAYLIGHT
BEGIN:STANDARD
TZOFFSETFROM:-0500
TZOFFSETTO:-0600
TZNAME:CST
DTSTART:20201101T070000
END:STANDARD
END:VTIMEZONE
BEGIN:VEVENT
DTSTART;TZID=America/Chicago:20201103T070000
DTEND;TZID=America/Chicago:20201103T090000
DTSTAMP:20260423T021509
CREATED:20201027T230651Z
LAST-MODIFIED:20201027T233902Z
UID:16202-1604386800-1604394000@kafponline.org
SUMMARY:Virtual CME - Nov. 3
DESCRIPTION:Tuesday\, November 3 | 7:00 – 9:00 a.m.\nThe Diagnosis and Preventive Treatment of Migraine Headache in Family Medicine\nDuren Michael Ready\, MD\, FAHS \nLearning Objectives: \n\nReview the ICHD-3 criteria for migraine\nUtilize diagnostic tools to support identification of candidates for migraine preventive therapy\nDescribe the current understanding of the pathophysiology of migraine and how it relates to current and emerging therapies\nDiscuss clinical data on current and emerging CGRP antibody therapies for the prevention of migraine\n\nQuestions? Contact info@kafponline.org
URL:https://kafponline.org/events/virtual-cme-nov-3/
END:VEVENT
BEGIN:VEVENT
DTSTART;TZID=America/Chicago:20201110T180000
DTEND;TZID=America/Chicago:20201110T200000
DTSTAMP:20260423T021509
CREATED:20201027T230923Z
LAST-MODIFIED:20201027T233814Z
UID:16205-1605031200-1605038400@kafponline.org
SUMMARY:Virtual CME - Nov. 10
DESCRIPTION:Tuesday\, November 10 | 6:00 – 8:00 p.m.\n\n\n\n\n\n\nVaping Epidemic\nMatthias Salathe\, MD \nLearning Objectives: \n\nUnderstand what vaping means regarding diluents\, nicotine and flavors plus possibly other substances\nUnderstand how different components of the vaping fluid could influence health\nUnderstand the difference between acute lung injury and chronic exposures in people who vape\n\nIntimate Partner Violence\nNancy Carroll\, LSCSW \nLearning Objectives: \n\nWhich SDOH impact the possibility of Intimate Partner Violence\nThe role of Primary Care and Intimate Partner Violence\nHow to use a trauma-informed approach to providing care for a victim of intimate partner violence\n\n\n\n\nQuestions? Contact info@kafponline.org
URL:https://kafponline.org/events/virtual-cme-nov-10/
END:VEVENT
BEGIN:VEVENT
DTSTART;TZID=America/Chicago:20201117T070000
DTEND;TZID=America/Chicago:20201117T090000
DTSTAMP:20260423T021509
CREATED:20201027T231105Z
LAST-MODIFIED:20201027T233734Z
UID:16208-1605596400-1605603600@kafponline.org
SUMMARY:Virtual CME - Nov. 17
DESCRIPTION:Tuesday\, November 17 | 7:00 – 9:00 a.m.\n\n\n\n\n\n\nThe Shoulder Made Eas(ier)\nNicole Yedlinsky\, MD\, CAQSM\, FAAFP\, RMSK \nLearning Objectives: \n\nIdentify common injuries and pathology of the shoulder\nPerform a comprehensive shoulder joint exam\nDiscuss treatment strategies for various shoulder diagnoses\n\nCare of the Military Veteran\nNicole Yedlinsky\, MD\, CAQSM\, FAAFP\, RMSK \nLearning Objectives: \n\nIdentify injuries and illnesses common among military veterans\nBecome comfortable asking about military service and be well informed about the range of veterans’ health concerns\, particularly PTSD\, depression\, and suicidality\nLearn about available resources and clinical practice guidelines such as those from the U.S. Department of Veterans Affairs and Department of Defense to inform care and to assist veterans\n\nQuestions? Contact info@kafponline.org
URL:https://kafponline.org/events/virtual-cme-nov-17/
END:VEVENT
END:VCALENDAR